BEGIN:VCALENDAR
VERSION:2.0
PRODID:-//Menks Veranstaltungen - ECPv5.3.2.1//NONSGML v1.0//EN
CALSCALE:GREGORIAN
METHOD:PUBLISH
X-WR-CALNAME:Menks Veranstaltungen
X-ORIGINAL-URL:http://www.menk-veranstaltungen.de
X-WR-CALDESC:Veranstaltungen für Menks Veranstaltungen
BEGIN:VTIMEZONE
TZID:Europe/Helsinki
BEGIN:DAYLIGHT
TZOFFSETFROM:+0200
TZOFFSETTO:+0300
TZNAME:EEST
DTSTART:20170326T010000
END:DAYLIGHT
BEGIN:STANDARD
TZOFFSETFROM:+0300
TZOFFSETTO:+0200
TZNAME:EET
DTSTART:20171029T010000
END:STANDARD
END:VTIMEZONE
BEGIN:VEVENT
DTSTART;TZID=Europe/Helsinki:20170413T200000
DTEND;TZID=Europe/Helsinki:20170417T120000
DTSTAMP:20260420T120412
CREATED:20161130T003611Z
LAST-MODIFIED:20161130T004837Z
UID:1698-1492113600-1492430400@www.menk-veranstaltungen.de
SUMMARY:Schicksalsfäden - Eine ungewöhnliche Reise
DESCRIPTION:Es ist nicht eine Frage ob dein Schicksal vorraus bestimmt ist. Viel mehr stell dir die Frage\, ob du dir deiner Vergangenheit bewusst bist?\nEin Hüter der Schicksalsfäden war einst der Schicksalsweber. Sein eigenes Schicksal erfüllte sich\, als Dämonen seiner habhaft wurden und ihn mit einem Todesfluch belegten. Seit zwei Jahren untersteht der Schutz der Schicksalsfäden seinem ursprünglichen Hüter. Jeder von euch kennt ihn\, doch keiner erinnert sich an ihn.  \nDiese fünf Tage werden euch zwingen euch mit euren Charaktere z.t. intensiv auseinander zu setzen. Es entstehen unweigerlich neue Beziehungen zwischen den teilnehmenden Charakteren und wichtige Aufgaben müssen gelöst werden\, um schlimme Konsequenzen abzuwenden. \nWir laden zu einem ganz besonderen Abenteuer ein. Manche Plots brauchen eine geringe Spielerzahl und mehrere Tage um sich intensiv entfalten zu können. „Schicksalsfäden“ ist grundsätzlich eine Con für jeden Charakter\, denn grade die vielfältige Mischung der teilnehmenden Charaktere wird am Ende den besonderen Geschmack der Con ergeben.
URL:http://www.menk-veranstaltungen.de/event/schicksalsfaeden-eine-ungewoehnliche-reise/
LOCATION:Heinrich Karsch Haus Hösseringen\, Bauernstr. 13\, Suderburg\, 29556 \, Deutschland
CATEGORIES:Talosia Kampagne
ORGANIZER;CN="Menk":MAILTO:pascal.schink@talosia.de
END:VEVENT
END:VCALENDAR