BEGIN:VCALENDAR
VERSION:2.0
PRODID:-//Menks Veranstaltungen - ECPv5.3.2.1//NONSGML v1.0//EN
CALSCALE:GREGORIAN
METHOD:PUBLISH
X-WR-CALNAME:Menks Veranstaltungen
X-ORIGINAL-URL:http://www.menk-veranstaltungen.de
X-WR-CALDESC:Veranstaltungen für Menks Veranstaltungen
BEGIN:VTIMEZONE
TZID:Europe/Helsinki
BEGIN:DAYLIGHT
TZOFFSETFROM:+0200
TZOFFSETTO:+0300
TZNAME:EEST
DTSTART:20190331T010000
END:DAYLIGHT
BEGIN:STANDARD
TZOFFSETFROM:+0300
TZOFFSETTO:+0200
TZNAME:EET
DTSTART:20191027T010000
END:STANDARD
END:VTIMEZONE
BEGIN:VEVENT
DTSTART;VALUE=DATE:20191030
DTEND;VALUE=DATE:20191104
DTSTAMP:20260421T133424
CREATED:20181113T175130Z
LAST-MODIFIED:20181113T175130Z
UID:2111-1572393600-1572825599@www.menk-veranstaltungen.de
SUMMARY:Schicksal der Götter
DESCRIPTION:Ein jeder Weg ist eine Geschichte. Anzunehmen\, dass eure Geschichte mit eurem ersten Abenteuer begonnen hat und mit eurem Tod enden wird ist leider eine falsche Annahme. Bis zu euch und auch nach eurem Ende haben Taten auf euch und andere Einfluss gehabt und werden ihn haben.\nDarüber hinaus gibt es Geschichten über Götter und vielleicht folgt ihr auch einem Gott in eurem Handeln. Doch spannend wird es werden\, wenn eure Handlungen die Götter zu Veränderungen antreiben. \n\n\n\nSTAFFELN/\nCONBEITRAG:\n\n\n\n\nArt:\nSC\nNSC\n\n\nBeschreibung:\nSC Bett Teilverpflegung\nNSC Bett Teilverpflegung\n\n\nAnzahl Plätze:\n16\n6\n\n\nAnzahl freier Plätze:\n13\n6\n\n\nbis 01.02.2019\n85 EUR\n25 EUR\n\n\nbis 01.06.2019\n95 EUR\n25 EUR\n\n\nbis 01.09.2019\n100 EUR\n30 EUR\n\n\nConzahler:\n0 EUR\n0 EUR\n\n\n\n\n\n\n\n>>>ANMELDUNG<<<
URL:http://www.menk-veranstaltungen.de/event/schicksal-der-goetter/
LOCATION:Heinrich Karsch Haus Hösseringen\, Bauernstr. 13\, Suderburg\, 29556 \, Deutschland
CATEGORIES:Talosia Kampagne
ORGANIZER;CN="Menks%20Veranstaltungen":MAILTO:pascal.schink@talosia.de
END:VEVENT
END:VCALENDAR