BEGIN:VCALENDAR
VERSION:2.0
PRODID:-//Menks Veranstaltungen - ECPv5.3.2.1//NONSGML v1.0//EN
CALSCALE:GREGORIAN
METHOD:PUBLISH
X-WR-CALNAME:Menks Veranstaltungen
X-ORIGINAL-URL:http://www.menk-veranstaltungen.de
X-WR-CALDESC:Veranstaltungen für Menks Veranstaltungen
BEGIN:VTIMEZONE
TZID:Europe/Helsinki
BEGIN:DAYLIGHT
TZOFFSETFROM:+0200
TZOFFSETTO:+0300
TZNAME:EEST
DTSTART:20180325T010000
END:DAYLIGHT
BEGIN:STANDARD
TZOFFSETFROM:+0300
TZOFFSETTO:+0200
TZNAME:EET
DTSTART:20181028T010000
END:STANDARD
END:VTIMEZONE
BEGIN:VEVENT
DTSTART;TZID=Europe/Helsinki:20181102T180000
DTEND;TZID=Europe/Helsinki:20181104T120000
DTSTAMP:20260421T134707
CREATED:20171225T071901Z
LAST-MODIFIED:20180112T065806Z
UID:1972-1541181600-1541332800@www.menk-veranstaltungen.de
SUMMARY:Haboria Mythos 3 - Das Erste Volk von Haboria
DESCRIPTION:Die meisten Geschichten über das Erste Volk von Haboria sind so alt\, dass sich kaum jemand an sie zu Erinnern vermag. Doch unwissentlich umgeben uns überall die Hinterlassenschaften dieses Volkes. Ihr Erbe hat diese Welt geprägt. Was aus ihnen wurde und was ihr Vermächtnis darstellt versuchen wir zu Ergründen. Die Forscherliga von Uhn wird diesen Geheimnissen auf den Grund gehen. \n\n\n\n\nHINWEISE (OT):\nEin Abenteuercon in Haboria mit seinen vielseitigen spielerischen Aspekten und Nebenhandlungen. Ob ihr die Forscherliga von Uhn unterstützen oder sie daran hindern wollt Einfluss auf das Land zu nehmen bleibt euch überlassen. Für Liebhaber tiefgründiger Geschichten ist diese Con eine gute Wahl!\n\n\nCON-GENRE:\nFantasy\n\n\nCON-ART:\nAbenteuer\n\n\nCON-REGELSYSTEM:\nDKWD(D)K – freies Spiel (nach Haboria)\n\n\nVERPFLEGUNG:\nSelbstversorger\nBemerkung: NSC Teilverpflegung\n\n\nGIBT ES EINE TAVERNE?:\nja\n\n\n\n  \n\n\n\nSTAFFELN/\nCONBEITRAG:\n\n\n\n\nArt:\nSC\nNSC\n\n\nBeschreibung:\nSC Bett\nNSC Teilv.Gruppenschlafr.\n\n\nAnzahl Plätze:\n30\n8\n\n\nAnzahl freier Plätze:\n30\n8\n\n\nbis 01.01.2018\n65 EUR\n10 EUR\n\n\nbis 01.04.2018\n75 EUR\n10 EUR\n\n\nbis 01.08.2018\n85 EUR\n15 EUR\n\n\nbis 01.11.2018\n95 EUR\n15 EUR\n\n\nConzahler:\n0 EUR\n0 EUR\n\n\n\n\n\n\n\nAnmeldung über Conorganizer
URL:http://www.menk-veranstaltungen.de/event/haboria-mythos-3-das-erste-volk-von-haboria/
LOCATION:Freizeitheim Lehringen bei Verden\, Lehringen\, Lehringen\, Niedersachsen\, 27308\, Deutschland
ORGANIZER;CN="Menks%20Veranstaltungen":MAILTO:pascal.schink@talosia.de
END:VEVENT
END:VCALENDAR