BEGIN:VCALENDAR
VERSION:2.0
PRODID:-//Menks Veranstaltungen - ECPv5.3.2.1//NONSGML v1.0//EN
CALSCALE:GREGORIAN
METHOD:PUBLISH
X-WR-CALNAME:Menks Veranstaltungen
X-ORIGINAL-URL:http://www.menk-veranstaltungen.de
X-WR-CALDESC:Veranstaltungen für Menks Veranstaltungen
BEGIN:VTIMEZONE
TZID:Europe/Helsinki
BEGIN:DAYLIGHT
TZOFFSETFROM:+0200
TZOFFSETTO:+0300
TZNAME:EEST
DTSTART:20180325T010000
END:DAYLIGHT
BEGIN:STANDARD
TZOFFSETFROM:+0300
TZOFFSETTO:+0200
TZNAME:EET
DTSTART:20181028T010000
END:STANDARD
END:VTIMEZONE
BEGIN:VEVENT
DTSTART;TZID=Europe/Helsinki:20180706T180000
DTEND;TZID=Europe/Helsinki:20180708T180000
DTSTAMP:20260419T155237
CREATED:20171223T164619Z
LAST-MODIFIED:20180112T065916Z
UID:1968-1530900000-1531072800@www.menk-veranstaltungen.de
SUMMARY:Haboria Mythos 2 - Schätze der Räuber
DESCRIPTION:Eine Vielzahl von Räuberbanden durchstreift das Land und sie werden von einem einzigen Ziel geleitet: Den Reichtum der Laschara Höhle zu mehren. All ihre Gier scheint von diesem Ort auszugehen. Der Schaden vieler Reisender ist groß und nicht zuletzt hat so mancheiner wertvolle Güter verloren\, die ihm persönlich viel bedeutet haben. Nun ist es einem Abtrünnigen Räuber zu verdanken\, dass die Lage der Höhle bekannt wurde. Diesem Treiben ein Ende zu Setzen würde die Dankbarkeit vieler Karavanen mit sich bringen\, nicht zuletzt aber auch die Helden sehr reich machen\, wenn diese sich die Gefahren durch Räuber und Fallen erfolgreich durchstehen. Doch Reisender sei gewarnt\, Laschara beherbergt nicht nur tödliche Gefahren\, sondern auch den Wahnsinn vieler Generationen von Räubern. Ein wahrhaft übernatürliche Gier hat sicher nicht nur in den Köpfen der Räuber ihren Ursprung. \n\n\n\n\nHINWEISE (OT):\nEine Abenteuercon auf dem Gelände der Glockenborn Feierey. Neben vielen kleinen Plotaufgaben im Lagerleben kommt es natürlich auch zu Kämpfen mit den Räuberbanden und zu umfangreichen Schatzsuchen in der Räuberhöhle. Diese beherbergt Fallen und Rätsel um ihren wertvollen Inhalt zu Beschützen. Ein Highlight wie auf jeder Con in der Glockenborn Feierey stellt die liebevoll eingerichtete mittelalterliche Taverne im Haus dar. So können die Spieler zwischen vielen Lagerfeuerstellen auf der Zeltwiese und einem tollen Ambientespielort im Gebäude wählen\, wenn es abends darum geht erbeutete Reichtümer wieder bei Spiel und Trunk unters Volk zu bringen. \nNSC erhalten Vollverpflegung die unter anderem täglich gemeinsames Grillen\, diverse Getränke und ein Sandwich Toaster Angebot rund um die Uhr beinhaltet. \nGruppenrabatt ab 5 Personen je Person: 5 Euro\nSammelanmeldung über einen Kontaktpartner möglich. Die Kontaktperson muss sich im Organizer anmelden und schickt eine Teilnehmerliste seiner Gruppe an pascal.schink@talosia.de und überweist für die Gruppe den Conbeitrag.\n\n\nCON-GENRE:\nFantasy\n\n\nCON-ART:\nAbenteuer\n\n\nCON-REGELSYSTEM:\nDKWD(D)K – freies Spiel (nach Haboria)\n\n\nVERPFLEGUNG:\nSelbstversorger\nBemerkung: NSC Vollverpflegung\n\n\nGIBT ES EINE TAVERNE?:\nja\n\n\n\n\n\n\nSTAFFELN/\nCONBEITRAG:\n\n\n\n\nArt:\nSC\nNSC\nNSC\n\n\nBeschreibung:\nSC Zelt\nNSC Vollv. Zelt\nNSC Vollv. Gruppenschlafr\n\n\nAnzahl Plätze:\n50\n15\n8\n\n\nAnzahl freier Plätze:\n45\n15\n8\n\n\nbis 01.12.2017\n65 EUR\n15 EUR\n15 EUR\n\n\nbis 01.02.2018\n75 EUR\n15 EUR\n15 EUR\n\n\nbis 01.05.2018\n85 EUR\n20 EUR\n20 EUR\n\n\nbis 01.07.2018\n95 EUR\n20 EUR\n20 EUR\n\n\nConzahler:\n0 EUR\n0 EUR\n0 EUR\n\n\n\n\n\n\n\nAnmeldung über Conorganizer
URL:http://www.menk-veranstaltungen.de/event/haboria-mythos-2-schaetze-der-raeuber/
LOCATION:Zeltplatz Glockenborn\, Glockenborn 1\, Moringen\, Niedersachsen\, 37186\, Deutschland
ORGANIZER;CN="Menks%20Veranstaltungen":MAILTO:pascal.schink@talosia.de
END:VEVENT
END:VCALENDAR