BEGIN:VCALENDAR
VERSION:2.0
PRODID:-//Menks Veranstaltungen - ECPv5.3.2.1//NONSGML v1.0//EN
CALSCALE:GREGORIAN
METHOD:PUBLISH
X-WR-CALNAME:Menks Veranstaltungen
X-ORIGINAL-URL:http://www.menk-veranstaltungen.de
X-WR-CALDESC:Veranstaltungen für Menks Veranstaltungen
BEGIN:VTIMEZONE
TZID:Europe/Helsinki
BEGIN:DAYLIGHT
TZOFFSETFROM:+0200
TZOFFSETTO:+0300
TZNAME:EEST
DTSTART:20160327T010000
END:DAYLIGHT
BEGIN:STANDARD
TZOFFSETFROM:+0300
TZOFFSETTO:+0200
TZNAME:EET
DTSTART:20161030T010000
END:STANDARD
END:VTIMEZONE
BEGIN:VEVENT
DTSTART;VALUE=DATE:20160930
DTEND;VALUE=DATE:20161004
DTSTAMP:20260422T141503
CREATED:20151229T114835Z
LAST-MODIFIED:20160207T075357Z
UID:1353-1475193600-1475539199@www.menk-veranstaltungen.de
SUMMARY:Haboria 5 - Das Vermächtnis der drei Brüder
DESCRIPTION:“Drei Brüder zogen einst aus um Ruhm und Reichtum zu erlangen. Sie kehrten mit besonderen Gaben heim und ihnen folgte das Unheil auf den Fersen\, welches ihnen die Gaben eingebracht hatte. Die Bewohner ihrer Heimat vertrieben die Brüder\, denn das Leid war unerträglich geworden.\nSie kehrten an den Ort zurück\, an dem sie ihre Gaben erhalten hatten. Sie erweiterten ihre Macht und letztlich hatten sie gefunden was sie gesucht hatten. Ruhm und Reichtum. Doch keiner wollte es ihnen danken…\nEine lange Zeit ist vergangen. Noch immer leidet das Land unter dem Wirken der drei Brüder. Es wird Zeit diese Leiden abzulösen.“ \nEine klassische Abenteuercon mit einigen experimentellen Plotbestandteilen. High Fantasy mit Artefakten\, Magie und Tierwesen. Wir wollen jedoch kein Powergaming\, weder bei den SC noch NSC. Es werden alltägliche Probleme wie auch größere Schwierigkeiten in interessante Aufgaben verpackt und zudem jeder Spieler dazu aufgerufen\, seine eigenen Forschungen und Experimente durchzuführen. Es wird viele kleine Artefakte geben\, die zum Bespielen ihrer Eigenschaften und Plots einladen. \nCondaten\nVeranstaltung: Haboria – Das Vermächtnis der drei Brüder\nTermin: 30.09. – 03.10.2016 (vier Tage)\nLocation: Zeltplatz Forsthaus Halt (Stadthagen)\nGenre / Art: Fantasy Abenteuer und Ambiente\nRegeln: Freies Spiel\nUntebringung: eigene Zelte\,\nTaverne: offener Außenbereich\, teilweise überdacht\nVerpflegung: Selbstverpflegung\nKontakt: pascal.schink@talosia.de\nAnmeldung \nTeilnehmerbeiträge Staffelung \nGruppenanmeldungen können gesammelt unter einem Namen im Conorganizer angemeldet werden. Vorraussetzung ist eine vollständige Namensliste an die angegebene Kontakt Email und eine Sammelüberweisung der Person welche die Gruppe anmeldet.\nEure Teilnahme gilt als sicher\, wenn ihr von der Orga den Eingang der Zahlung und die Anmeldung der Personen bestätigt bekommt. \nKosten \nBeschreibung:    Spieler Zelt    NSC Sammelschlafraum im Haus\nAnzahl Plätze:            80                                    10\nbis 01.03.2016           85 EUR                            20 EUR \nbis 01.05.2016           90 EUR                            25 EUR\nbis 01.09.2016          100 EUR                           25 EUR \nNSC Angebot\nNSC bekommen durchgehend kostenlos Wasser und morgens kostenlos Kaffee.
URL:http://www.menk-veranstaltungen.de/event/haboria-das-vermaechtnis-der-drei-brueder/
LOCATION:Forsthaus Halt Stadthagen\, Wormstaler Weg 8\, Stadthagen\, Niedersachsen\, 31655\, Deutschland
ORGANIZER;CN="Menks%20Veranstaltungen":MAILTO:pascal.schink@talosia.de
END:VEVENT
END:VCALENDAR