BEGIN:VCALENDAR
VERSION:2.0
PRODID:-//Menks Veranstaltungen - ECPv5.3.2.1//NONSGML v1.0//EN
CALSCALE:GREGORIAN
METHOD:PUBLISH
X-WR-CALNAME:Menks Veranstaltungen
X-ORIGINAL-URL:http://www.menk-veranstaltungen.de
X-WR-CALDESC:Veranstaltungen für Menks Veranstaltungen
BEGIN:VTIMEZONE
TZID:Europe/Helsinki
BEGIN:DAYLIGHT
TZOFFSETFROM:+0200
TZOFFSETTO:+0300
TZNAME:EEST
DTSTART:20160327T010000
END:DAYLIGHT
BEGIN:STANDARD
TZOFFSETFROM:+0300
TZOFFSETTO:+0200
TZNAME:EET
DTSTART:20161030T010000
END:STANDARD
END:VTIMEZONE
BEGIN:VEVENT
DTSTART;VALUE=DATE:20160805
DTEND;VALUE=DATE:20160808
DTSTAMP:20260421T163435
CREATED:20160207T073245Z
LAST-MODIFIED:20160207T075314Z
UID:1385-1470355200-1470614399@www.menk-veranstaltungen.de
SUMMARY:Haboria 4 - Götzen der Berge
DESCRIPTION:“Irgendwo im Vogelgebirge leben die Aedrane. Ein sagenumwobenes Vogelvolk\, welches unterschiedlicher zu seinen Mitbewohnern des Gebirges nicht sein könnte: Den Goblins!\nGoblins und Aedrane haben jedoch eine Sache gemein\, sie dienen demselben Herrscher. Einem Herrscher mit dunklen Absichten und einer berüchtigten Vergangenheit. Wer die Freiheit liebt und Tyrannen verabscheut\, der wird seine Berufung hinter der Nebelwand Haborias finden. Bei den Götzen der Berge.“ \nAuf dich wartet ein Abenteuercon mit vielen Scharmützeln in den Wäldern auf einem frischen Spielgelände. Interaktion mit fremden Kulturen und viele kleine Plotfäden die zum Großen Ganzen führen.\nDie Haupthandlung setzt den Meta Plot um „die drei Brüder“ fort\, ist jedoch komplett ohne Vorwissen bespielbar. „Sklaven der Macht“ im Juni und „Das Vermächtnis der drei Brüder“ im September bespielen ebenfalls den Meta Plot. \nDie Anreise ist bereits ab Donnerstag ohne Aufpreis möglich. \nCondaten\nVeranstaltung: Haboria – Götzen der Berge\nTermin: 5.-7.August 2016\nLocation: Zeltplatz Lauenberg bei Dassel (Süd Niedersachsen)\nGenre / Art: Fantasy Abenteuer und Ambiente\nRegeln: Freies Spiel\nUntebringung: eigene Zelte\nTaverne: überdachte\, befestigte Außentaverne mit Grillmöglichkeit\nVerpflegung: Selbstverpflegung\nKontakt: pascal.schink@talosia.de\nAnmeldung \nInformationen zur Location\nTeilnehmerbeiträge Staffelung\nGruppenanmeldungen können gesammelt unter einem Namen im Conorganizer angemeldet werden. Vorraussetzung ist eine vollständige Namensliste an die angegebene Kontakt Email und eine Sammelüberweisung der Person welche die Gruppe anmeldet.\nEure Teilnahme gilt als sicher\, wenn ihr von der Orga den Eingang der Zahlung und die Anmeldung der Personen bestätigt bekommt. \nKosten \nBeschreibung:    Spieler Zelt    NSC Sammelschlafraum im Haus\nAnzahl Plätze:            50                                    10 \nbis 15.02.2016           60 EUR                            15 EUR\nbis 01.05.2016           65 EUR                            20 EUR\nbis 01.08.2016           70 EUR                            20 EUR\nConzahler                   80 EUR                            25 EUR \nNSC Angebot\nNSC bekommen durchgehend kostenlos Trinkwasser\, Süßigkeiten im Fundusbereich und zelten nahe des Schwimmbads mit Duschmöglichkeiten. Eure Ausrüstung könnt ihr im Fundus zwischenlagern.
URL:http://www.menk-veranstaltungen.de/event/haboria-4-goetzen-der-berge/
LOCATION:Zeltplatz Lauenberg bei Dassel\, Dassel\, 37586\, Deutschland
ORGANIZER;CN="Menks%20Veranstaltungen":MAILTO:pascal.schink@talosia.de
END:VEVENT
END:VCALENDAR