BEGIN:VCALENDAR
VERSION:2.0
PRODID:-//Menks Veranstaltungen - ECPv5.3.2.1//NONSGML v1.0//EN
CALSCALE:GREGORIAN
METHOD:PUBLISH
X-WR-CALNAME:Menks Veranstaltungen
X-ORIGINAL-URL:http://www.menk-veranstaltungen.de
X-WR-CALDESC:Veranstaltungen für Menks Veranstaltungen
BEGIN:VTIMEZONE
TZID:Europe/Helsinki
BEGIN:DAYLIGHT
TZOFFSETFROM:+0200
TZOFFSETTO:+0300
TZNAME:EEST
DTSTART:20170326T010000
END:DAYLIGHT
BEGIN:STANDARD
TZOFFSETFROM:+0300
TZOFFSETTO:+0200
TZNAME:EET
DTSTART:20171029T010000
END:STANDARD
END:VTIMEZONE
BEGIN:VEVENT
DTSTART;TZID=Europe/Helsinki:20170914T190000
DTEND;TZID=Europe/Helsinki:20170917T120000
DTSTAMP:20260420T055252
CREATED:20161130T010745Z
LAST-MODIFIED:20161130T014002Z
UID:1708-1505415600-1505649600@www.menk-veranstaltungen.de
SUMMARY:Fort Oberwasser
DESCRIPTION:5 lange Jahre besetzetn die Truppen des Königreich Korandia nun die Feldmark. Ihr König ist gefallen und die Lords seiner Armee zerstritten. Die untoten Heerscharen haben sich weitestgehend hinter die Flussgrenze zurück gezogen und seit dem Beginn des Bürgerkriegs blieben dringend benötigte Truppenverstärkungen Korandias aus. Doch das Juwel der Feldmark\, die große Stadt Beltaine\, ist noch immer in Feindeshand.\nWährend der Belagerungsdruck von allen Seiten auf die Stadt zunimmt\, gelang es bislang nicht die Stadt zu Befreien. Nun steht der Plan die letzte Versorgungslinie Korandias\, welche Oberwasserstadt und damit Korandias Reichsgrenze mit Beltaine verbindet\, zu unterbrechen und zeitgleich eine gewaltige Offensive gegen die Stadt zu Führen.\nDas Fort Oberwasser ist das schwache Glied in der Versorgungslinie. Gelingt es dieses Fort zu Sichern und die Versorgungslinie Korandias damit zu einer Zeit zu Stören\, wo die Feinde Korandias Beltaine gemeinsam attackieren\, wird Beltaine und damit die zentrale Feldmark von Korandia befreit. \nDie Korandia Cons bespielten in den letzten 11 Jahren ein Kriegssetting\, bei dem ein antikes Untotenreich wieder erstarkte und von Norden bis in den Süden des Kontinents Talosia nahezu vollständig die Herrschaft übernahm. Bereits mit dem Rücken zur Südküste Talosias gelang es den Spielern Zeit für die Feinde Korandias zu erkaufen und den Feind in einen inneren Bürgerkrieg um die Nachfolge des getöteten feindlichen Königs zu werfen.\nNach langer Pause wird nun das langersehnte Kapitel um die Befreiung Beltaines bespielt. Als Orga habe ich mich gegen eine Schlacht auf einer Burganlage entschieden. Stattdessen bleibt es beim Stil\, das kleine Verbände von Spielergruppen sich einigen Abenteuerplots widmen und ein bedeutendes Puzzlestück zum Sieg beitragen können. Das Gefühl einer Schlacht wird dennoch aufkommen\, denn wir planen ein Fort aufzubauen\, welches real belagert werden kann. Bringt also euer Kriegszeug mit und bereitet euch auf die Erstürmung des Fort Oberwasser vor. Rechnet mit widernatürlichen Fallen\, magischen Einflüssen und NSC Gegnern\, die euch einige Male in den Arsch treten werden.
URL:http://www.menk-veranstaltungen.de/event/fort-oberwasser/
LOCATION:Forsthaus Halt Stadthagen\, Wormstaler Weg 8\, Stadthagen\, Niedersachsen\, 31655\, Deutschland
CATEGORIES:Talosia Kampagne
ORGANIZER;CN="Menk":MAILTO:pascal.schink@talosia.de
END:VEVENT
END:VCALENDAR