BEGIN:VCALENDAR
VERSION:2.0
PRODID:-//Menks Veranstaltungen - ECPv5.3.2.1//NONSGML v1.0//EN
CALSCALE:GREGORIAN
METHOD:PUBLISH
X-WR-CALNAME:Menks Veranstaltungen
X-ORIGINAL-URL:http://www.menk-veranstaltungen.de
X-WR-CALDESC:Veranstaltungen für Menks Veranstaltungen
BEGIN:VTIMEZONE
TZID:Europe/Helsinki
BEGIN:DAYLIGHT
TZOFFSETFROM:+0200
TZOFFSETTO:+0300
TZNAME:EEST
DTSTART:20190331T010000
END:DAYLIGHT
BEGIN:STANDARD
TZOFFSETFROM:+0300
TZOFFSETTO:+0200
TZNAME:EET
DTSTART:20191027T010000
END:STANDARD
END:VTIMEZONE
BEGIN:VEVENT
DTSTART;VALUE=DATE:20190913
DTEND;VALUE=DATE:20190916
DTSTAMP:20260419T162733
CREATED:20181113T174907Z
LAST-MODIFIED:20181113T175222Z
UID:2106-1568332800-1568591999@www.menk-veranstaltungen.de
SUMMARY:Dunkle Bedrohung hinter dem Vorhang
DESCRIPTION:Der Kampf gegen das Untotenreich Korandia wird in der Nordmark jenseits des Silberwassers fortgesetzt. In der Feldmark sind die Siegermächte der Befreiung nun mit den Konsequenzen einer freien Feldmark konfrontiert. \nIm vergangenen Jahr entpuppte sich der Orden des Schwarzes Kreuzes\, als Erbe der Kirche der Erleuchtung\, als eine gefährliche Truppe von Ausbeutern. Kriminelle Handlungen führten zum Schlagabtausch mit den Reisenden in der Feldmark. Bei dieser Begegnung eint viele der gerechten Widersacher des Ordens die Erkenntnis\, dass die Kirchentruppen beseitigt werden müssen. Es kommt zum finalen Kampf auf dem Schlachtfeld! \nIm vergangenen Jahr wurde die Anführerin einer religiösen Abspaltung des Licht Glaubens an Uto des Verrats und der Verschwörung angeklagt. Die Prophetin Layad wurde ohne Gegenwehr in Gewahrsam genommen und zu ihrem Prozess in das Königreich Zaronien zu ihrem Prozess geführt. Das Ergebnis dieses Prozesses über Layad wird hier verkündet werden. Wird sie freigesprochen\, werden viele Gruppen Manipulationen des Prozesses vermuten und vielleicht selbst zm Scharfrichterschwert greifen. Wird sie jedoch verurteilt\, droht seitens ihrer Anhänger eine Rebellion in der Feldmark durch einige Siedlungen die dem Schutz der Prophetin unterstehen. Wie heilig ist die Prophetin und über welche Macht verfügt sie? \nDie Königin der Feldmark erfuhr einige politische Rückschläge im vergangenen Jahr. Sie beruft sich auf ihr Versprechen gegenüber den Bürgern der Feldmark allen die Freiheit zu bringen und ihnen nach der Vertreibung Korandias und dem Sieg über die tyrannische Kirche der Erleuchtung die Wahl zu lassen\, sich dem Königreich Feldmark anzuschließen. Wenn die Truppen der Kirche dieses letzte Mal geschlagen werden\, wird sie die annektierten Gebiete der zentralen Feldmark wieder freigeben und sich auf den Osten der Feldmark zurück ziehen. Ihre Grenzen werden sich dann nach ihrer Gefolgschaft formen\, welche ihre Leistungen in diesem Kampf um die Freiheit nicht vergessen hat. Doch zuerst gilt es nun das Schwert zu schwingen. \nUnd weil all diese Bewegungen nicht schon schwierig genug sind\, mehren sich die Gerüchte\, dass ein uminöser Dunkler Meister im Hintergrund seine Schachfiguren ziehen könnte und sicherlich für viele Intrigen und Probleme verantwortlich ist. Das Puzzle ist längst nicht vollständig und seine Schergen treiben auch in diesen bedeutenden Tagen ihr Unwesen. \n\n\n\nSTAFFELN/\nCONBEITRAG:\n\n\n\n\nArt:\nSC\nSC\nNSC\nNSC\n\n\nBeschreibung:\nSC Zelt\nSC Bett im Haus\nNSC Bett\nNSC Zelt\n\n\nAnzahl Plätze:\n50\n32\n30\n30\n\n\nAnzahl freier Plätze:\n50\n29\n30\n30\n\n\nbis 01.01.2019\n50 EUR\n60 EUR\n20 EUR\n5 EUR\n\n\nbis 01.05.2019\n60 EUR\n70 EUR\n20 EUR\n5 EUR\n\n\nbis 01.08.2019\n70 EUR\n80 EUR\n25 EUR\n10 EUR\n\n\nConzahler:\n0 EUR\n0 EUR\n0 EUR\n0 EUR\n\n\n\n\n\n\n\n>>>ANMELDUNG<<< \n 
URL:http://www.menk-veranstaltungen.de/event/dunkle-bedrohung-hinter-dem-vorhang/
LOCATION:Bad Fallingbostel\, Bad Fallingbostel\, Nidersachsen\, 29683\, Deutschland
CATEGORIES:Talosia Kampagne
ORGANIZER;CN="Menks%20Veranstaltungen":MAILTO:pascal.schink@talosia.de
END:VEVENT
END:VCALENDAR