BEGIN:VCALENDAR
VERSION:2.0
PRODID:-//Menks Veranstaltungen - ECPv5.3.2.1//NONSGML v1.0//EN
CALSCALE:GREGORIAN
METHOD:PUBLISH
X-WR-CALNAME:Menks Veranstaltungen
X-ORIGINAL-URL:http://www.menk-veranstaltungen.de
X-WR-CALDESC:Veranstaltungen für Menks Veranstaltungen
BEGIN:VTIMEZONE
TZID:Europe/Helsinki
BEGIN:DAYLIGHT
TZOFFSETFROM:+0200
TZOFFSETTO:+0300
TZNAME:EEST
DTSTART:20150329T010000
END:DAYLIGHT
BEGIN:STANDARD
TZOFFSETFROM:+0300
TZOFFSETTO:+0200
TZNAME:EET
DTSTART:20151025T010000
END:STANDARD
END:VTIMEZONE
BEGIN:VEVENT
DTSTART;VALUE=DATE:20150716
DTEND;VALUE=DATE:20150720
DTSTAMP:20260421T181231
CREATED:20150609T053630Z
LAST-MODIFIED:20150609T055501Z
UID:609-1437004800-1437350399@www.menk-veranstaltungen.de
SUMMARY:Dämonicon 3 – Ruf der Dunkelheit
DESCRIPTION:“Die Weltenschwärze entsendet die Dämonen von Kryansphäre gegen die Welten der Schöpfung und bereitet sich derweil auf ihren eigenen finsteren Akt der Vernichtung vor. Während die Schlachten gegen die Dämonen geführt werden zeichnen sich im Verborgenen die Machenschaften jener destruktiven Kraft ab\, welche für das Blutvergießen die Verantwortung trägt. Neben der Verteidigung dieser Welt mit Stärke und Stahl werden Wissen und Weisheit von bedeutender Größe gebraucht um mit Mut und Gerissenheit gegen die Feinde vorzugehen. Aus der Finsternis entsteigt die Schwärze!“ \nDämonicon 3 ist eine Schlachtencon mit Abenteuerprogramm. Neben spannenden Kämpfen erwarten euch einige Rätsel und Gewissensfragen\, auf die eure Charaktere Antworten finden müssen. \nCondaten\nVeranstaltung: Dämonicon 3 – Ruf der Dunkelheit\nTermin: 16.-19.Juli 2015 (4 Tage)\nLocation: Haus Weichselland\, Hülsede (nahe Bad Münder und Lauenau)\nGenre / Art: Fantasy Abenteuer\nRegeln: Freies Spiel\nUnterbringung: Betten im Haus\, Zelten in eigenen Zelten\nTaverne: ja\nVerpflegung: Selbstverpflegung\nKontakt: pascal.schink@talosia.de\nAnmeldung: http://conorganizer.ivannar.net/index.php?con_id=249 \nTeilnehmerbeiträge Staffelung\nGruppenanmeldungen können gesammelt unter einem Namen im Conorganizer angemeldet werden. Vorraussetzung ist eine vollständige Namensliste an die angegebene Kontakt Email und eine Sammelüberweisung der Person welche die Gruppe anmeldet. Gruppen ab 5 Personen bekommen 5 Euro je Person als Gruppenrabatt der bei der Überweisung direkt abgezogen werden kann. Eure Teilnahme gilt als sicher\, wenn ihr von der Orga den Eingang der Zahlung und die Anmeldung der Personen bestätigt bekommt.\nTeilnehmerzahl: 75 Spieler in Zelten und 16 Spieler im Haus\, 50 NSC/SL im Haus\nStaffel 1 endet am: 1.Dezember 2014\nStaffel 2 endet am: 1.Februar 2015\nStaffel 3 endet am: 15.Juni 2015\nStaffel 4 endet am: 15.Juli 2015\nWeihnachtsangebot: Jede Frühanmeldung die bis zum 24.Dezember eingeht erhält auf der Con ein Säckchen mit Spielmünzen aus Talosia.\nNSC Angebot: NSC erhalten auf der Con 20 Euro zurück\, wenn sie ein eigenes Dämonenkostüm mitbringen. Für diese Subvention muss vor der Con ein Bild vom Kostüm per Mail bestätigt werden (pascal.schink@talosia.de). \nKosten\nStaffel 1: Bett SC 89 Euro / Bett NSC 30 Euro\nStaffel 2: Bett SC 99 Euro / Bett NSC 35 Euro\nStaffel 3: Bett SC 109 Euro / Bett NSC 40 Euro\nStaffel 4: Bett SC 120 Euro / Bett NSC 40 Euro \nNSC Angebote\nNSC bekommen durchgehend kostenlos Wasser und morgens kostenlos Kaffee.\nEigene anständige Dämonenkostüme sind gerne gesehen\, werden aber nur subventioniert\, wenn sie in der Handlung von der Orga rechtzeitig auch eingeplant werden können.\nIm NSC Haus befinden sich zahlreiche Waschmöglichkeiten z.t. auch auf den Zimmern. Gruppenräume stehen für den Aufenthalt zum Ausruhen zur Verfügung. Ein großer Fundusbereich im Haus ermöglicht euch viel Platz für euren Kram. Eine Küche steht außerdem zur Verfügung.
URL:http://www.menk-veranstaltungen.de/event/daemonicon-3-ruf-der-dunkelheit/
LOCATION:Jugendbildungsstätte Meinsen\, Meinser Str. 11\, Meinsen (Hülsede)\, 31867\, Deutschland
CATEGORIES:Talosia Kampagne
ORGANIZER;CN="Menks%20Veranstaltungen":MAILTO:pascal.schink@talosia.de
END:VEVENT
END:VCALENDAR