BEGIN:VCALENDAR
VERSION:2.0
PRODID:-//Menks Veranstaltungen - ECPv5.3.2.1//NONSGML v1.0//EN
CALSCALE:GREGORIAN
METHOD:PUBLISH
X-WR-CALNAME:Menks Veranstaltungen
X-ORIGINAL-URL:http://www.menk-veranstaltungen.de
X-WR-CALDESC:Veranstaltungen für Menks Veranstaltungen
BEGIN:VTIMEZONE
TZID:Europe/Helsinki
BEGIN:DAYLIGHT
TZOFFSETFROM:+0200
TZOFFSETTO:+0300
TZNAME:EEST
DTSTART:20170326T010000
END:DAYLIGHT
BEGIN:STANDARD
TZOFFSETFROM:+0300
TZOFFSETTO:+0200
TZNAME:EET
DTSTART:20171029T010000
END:STANDARD
BEGIN:DAYLIGHT
TZOFFSETFROM:+0200
TZOFFSETTO:+0300
TZNAME:EEST
DTSTART:20180325T010000
END:DAYLIGHT
BEGIN:STANDARD
TZOFFSETFROM:+0300
TZOFFSETTO:+0200
TZNAME:EET
DTSTART:20181028T010000
END:STANDARD
END:VTIMEZONE
BEGIN:VEVENT
DTSTART;TZID=Europe/Helsinki:20171229T180000
DTEND;TZID=Europe/Helsinki:20180101T120000
DTSTAMP:20260420T011221
CREATED:20161130T012447Z
LAST-MODIFIED:20161130T014227Z
UID:1716-1514570400-1514808000@www.menk-veranstaltungen.de
SUMMARY:Bauernfang 6 - Die Gedanken sind frei
DESCRIPTION:„Hallo mein Freund\, ich bin Ulf. Komm und kehr ein in mein angebotenes Nachtlager und verbringe die kommenden kalten Tage im Warmen. Du brauchst hier nichts zu fürchten\, denn die spukende Hütte wurde von ihren Geistern befreit\, der Schuppen mit den lebenden Toten wurde verbrannt und selbst unsere Taverne erfreut sich wieder dem Glanz alter Tage. \n8 Jahre des Krieges und der Besatzung durch Korandia sind vorbei und wir können endlich aufatmen. Hans hat gesagt\, wir können uns auf wunderbare Zeiten freuen\, in der die Feldmark wieder aufblühen wird….“ \n— „ähhhh\, Hans? Der ist doch vor ein paar Jahren gestorben…“ — \n„Ups\, sagte ich Hans? Ich meinte Franz…“ \n— „Der starb doch zwei Jahre nach Hans…“ —  \nBespielt wird die Thematik der Bauern aus der Feldmark in der Nachkriegszeit. Diese überlegen was sie mit ihrer neu gewonnenen Freiheit ohne Kirche und Korandia alles anstellen können. Und natürlich locken die Sünden der Freiheit… \nEin sehr unterhaltsamer Silvestercon lädt Freunde und Freunde von Freunden zu einem humorvollen Jahresübergang ein. In der alten Tradition der Bauernfang Spielreihe werden ernste Themen aus dem Talosia Spielhintergrund auf eine sehr alternative Weise bespielt. Dieses Spiel lebt von der Wechselwirkung eurer ernsthaft gespielten Charaktere und den herzhaft inszenierten Plotelementen von Bauernfang 6. Wer zum Lachen in den Keller geht\, der sollte besser wieder rauf kommen. Denn im Keller schlafen Hans und Franz.
URL:http://www.menk-veranstaltungen.de/event/bauernfang-6-die-gedanken-sind-frei/
LOCATION:Bruchtorf\, 29585
CATEGORIES:Talosia Kampagne
ORGANIZER;CN="Menk":MAILTO:pascal.schink@talosia.de
END:VEVENT
END:VCALENDAR