BEGIN:VCALENDAR
VERSION:2.0
PRODID:-//Menks Veranstaltungen - ECPv5.3.2.1//NONSGML v1.0//EN
CALSCALE:GREGORIAN
METHOD:PUBLISH
X-WR-CALNAME:Menks Veranstaltungen
X-ORIGINAL-URL:http://www.menk-veranstaltungen.de
X-WR-CALDESC:Veranstaltungen für Menks Veranstaltungen
BEGIN:VTIMEZONE
TZID:Europe/Helsinki
BEGIN:DAYLIGHT
TZOFFSETFROM:+0200
TZOFFSETTO:+0300
TZNAME:EEST
DTSTART:20180325T010000
END:DAYLIGHT
BEGIN:STANDARD
TZOFFSETFROM:+0300
TZOFFSETTO:+0200
TZNAME:EET
DTSTART:20181028T010000
END:STANDARD
END:VTIMEZONE
BEGIN:VEVENT
DTSTART;TZID=Europe/Helsinki:20180330T180000
DTEND;TZID=Europe/Helsinki:20180402T120000
DTSTAMP:20260419T205300
CREATED:20171221T163458Z
LAST-MODIFIED:20180112T070105Z
UID:1946-1522432800-1522670400@www.menk-veranstaltungen.de
SUMMARY:Aufbruch nach Agnatien
DESCRIPTION:Gerüchten zufolge haben sich die verklavten Menschen im Westen hinter den Silberbergen gegen ihre Orktyrannen erhoben und diese weit in den Süden zurück gedrängt. Ein ganzes Land erschließt sich nun den Abenteurern hinter den Silberbergen\, mit möglichen Freunden\, Feinden\, Ruhm\, Reichtum oder auch einer Menge Ärger. Daher haben die Königreiche des Westens von Talosia beschlossen das Potenzial dieser neu geprägten Nachbarschaft auszukundschaften. Das Zwergenkönigreich Silberberge\, das Königreich Zaronien und das Königreich Feldmark bereiten sich auf eine große Expeditionsreise vor. Hierzu muss zuallererst ein Pass gesichert werden\, welcher die Reise von der Feldmark nach Agnatien künftig ermöglichen soll. \nAn einer verlassenen Mine steht ein altes Gasthaus. Dieses wurde wieder instandgesetzt und wird die ersten Pioniere und Abenteurer beherbergen\, welche den Pass und seine Umgebung sichern wollen. Die alte Mine ist vermutlich nicht unbewohnt und nach was dort gegraben wurde ist niemanden mehr bekannt. Welche Gefahren die raue Gegend in den südlichen Silberbergen mit sich bringt ist ebenfalls ungewiss. Doch der Weg muss frei werden\, für künftigen Handel und weitere Beziehungen mit Agnatien. \n  \n\n\n\n\nHINWEISE (OT):\nEine Abenteuercon mit Unterbringung im Haus. Es wird einen Dungeonbereich und viele Plotangebote im anliegenden Wald geben. Wer es ruhiger möchte\, dem bietet sich eine Indoor Taverne an\, wo es viel Platz zum Spielen gibt. \nDiese Con leitet in die neue Talosia Kampagne „Agnatien“ ein. Hier bietet sich die wunderbare Gelegenheit neue Kontakte zu knüpfen und sich mit der Spielwelt Talosia vertraut zu machen. Grade durch das in 12 Jahren aufgebaute Spiel sind immer wiederkehrende Geschichten von großen Interesse\, da sie je nach Kultur in einer anderen Weise interpretiert werden. Größere Spielergruppen lieben den Einfluss auf die Geschicke vieler Länder des Kontinents und Einzelspieler erfreuen sich am Plotspiel und der Möglichkeit spezielles Wissen sich anzueignen oder Freundschaft wie Feindschaft zu ganz besonderen Wesenheiten in Talosia aufzubauen. In Talosia laden wir alle Spieler dazu ein sich von unserer Spielwelt prägen zu lassen und diese durch ihr eigenes Spiel wiederum mitzugestalten und zu Verändern. \nRabatt Hinweis: Für Gruppen ab 5 Personen gibt es je Person 5 Euro Rabatt.\nWer sich für die Cons „Aufbruch nach Agnatien“ und „Agnatien 1“ anmeldet erhält ebenfalls 5 Euro Rabatt.\n\n\nCON-GENRE:\nFantasy\n\n\nCON-ART:\nAbenteuer\n\n\nCON-REGELSYSTEM:\nDKWD(D)K – freies Spiel (nach Talosia)\n\n\nVERPFLEGUNG:\nSelbstversorger\nBemerkung: NSC Teilverpflegung\n\n\nGIBT ES EINE TAVERNE?:\nja\n\n\n\n\n\n\nSTAFFELN/\nCONBEITRAG:\n\n\n\n\nArt:\nSC\nNSC\nSC\nNSC\n\n\nBeschreibung:\nSC Bett\nNSC Teilv.Gruppenschlafr.\nSC Zelt auf Anfrage\nNSC Zelt auf Anfrage\n\n\nAnzahl Plätze:\n30\n8\n0\n0\n\n\nAnzahl freier Plätze:\n18\n8\n0\n0\n\n\nbis 01.12.2017\n70 EUR\n10 EUR\n0 EUR\n0 EUR\n\n\nbis 01.02.2018\n80 EUR\n10 EUR\n0 EUR\n0 EUR\n\n\nbis 29.03.2018\n85 EUR\n15 EUR\n0 EUR\n0 EUR\n\n\nConzahler:\n0 EUR\n0 EUR\n0 EUR\n0 EUR\n\n\n\n\n\n\n\n  \nAnmeldung über den Conorganizer
URL:http://www.menk-veranstaltungen.de/event/aufbruch-nach-agnatien/
LOCATION:Freizeitheim Lehringen bei Verden\, Lehringen\, Lehringen\, Niedersachsen\, 27308\, Deutschland
CATEGORIES:Talosia Kampagne
ORGANIZER;CN="Menks%20Veranstaltungen":MAILTO:pascal.schink@talosia.de
END:VEVENT
END:VCALENDAR